View In:
ArcGIS JavaScript
ArcGIS Online Map Viewer
ArcGIS Earth
ArcMap
ArcGIS Pro
View Footprint In:
ArcGIS Online Map Viewer
Service Description:
Map Name: Basemap_NoParcels_NoAirspace
Legend
All Layers and Tables
Layers:
Description:
Service Item Id: 4e3c8c749f02464fb086df7d14d167f0
Copyright Text:
Spatial Reference:
102746
(2283)
VCSWkid(105703)
LatestVCSWkid(6360)
Single Fused Map Cache: true
Tile Info:
- Height: 256
- Width: 256
- DPI: 96
-
Levels of Detail: 24
-
Level ID: 0
[ Start Tile, End Tile ]
- Resolution: 953086.1094574267
- Scale: 1.0979573940097437E9
-
Level ID: 1
[ Start Tile, End Tile ]
- Resolution: 476543.05472871335
- Scale: 5.489786970048718E8
-
Level ID: 2
[ Start Tile, End Tile ]
- Resolution: 238271.52736435668
- Scale: 2.744893485024359E8
-
Level ID: 3
[ Start Tile, End Tile ]
- Resolution: 119135.76368217834
- Scale: 1.3724467425121796E8
-
Level ID: 4
[ Start Tile, End Tile ]
- Resolution: 59567.88184108917
- Scale: 6.862233712560898E7
-
Level ID: 5
[ Start Tile, End Tile ]
- Resolution: 29783.940920544585
- Scale: 3.431116856280449E7
-
Level ID: 6
[ Start Tile, End Tile ]
- Resolution: 14891.970460272292
- Scale: 1.7155584281402245E7
-
Level ID: 7
[ Start Tile, End Tile ]
- Resolution: 7445.985230136146
- Scale: 8577792.140701123
-
Level ID: 8
[ Start Tile, End Tile ]
- Resolution: 3722.992615068073
- Scale: 4288896.070350561
-
Level ID: 9
[ Start Tile, End Tile ]
- Resolution: 1861.4963075340365
- Scale: 2144448.0351752806
-
Level ID: 10
[ Start Tile, End Tile ]
- Resolution: 930.7481537670183
- Scale: 1072224.0175876403
-
Level ID: 11
[ Start Tile, End Tile ]
- Resolution: 465.37407688350913
- Scale: 536112.0087938202
-
Level ID: 12
[ Start Tile, End Tile ]
- Resolution: 232.68703844175457
- Scale: 268056.0043969101
-
Level ID: 13
[ Start Tile, End Tile ]
- Resolution: 116.34351922087728
- Scale: 134028.00219845504
-
Level ID: 14
[ Start Tile, End Tile ]
- Resolution: 58.17175961043864
- Scale: 67014.00109922752
-
Level ID: 15
[ Start Tile, End Tile ]
- Resolution: 29.08587980521932
- Scale: 33507.00054961376
-
Level ID: 16
[ Start Tile, End Tile ]
- Resolution: 14.54293990260966
- Scale: 16753.50027480688
-
Level ID: 17
[ Start Tile, End Tile ]
- Resolution: 7.27146995130483
- Scale: 8376.75013740344
-
Level ID: 18
[ Start Tile, End Tile ]
- Resolution: 3.635734975652415
- Scale: 4188.37506870172
-
Level ID: 19
[ Start Tile, End Tile ]
- Resolution: 1.8178674878262076
- Scale: 2094.18753435086
-
Level ID: 20
[ Start Tile, End Tile ]
- Resolution: 0.9089337439131038
- Scale: 1047.09376717543
-
Level ID: 21
[ Start Tile, End Tile ]
- Resolution: 0.4544668719565519
- Scale: 523.546883587715
-
Level ID: 22
[ Start Tile, End Tile ]
- Resolution: 0.22723343597827594
- Scale: 261.7734417938575
-
Level ID: 23
[ Start Tile, End Tile ]
- Resolution: 0.11361671798913797
- Scale: 130.88672089692875
- Format: PNG
- Compression Quality: 0.0
- Origin: X: -1.1051210534388396E8
Y: 1.1732142983416453E8
- Spatial Reference: 102746
(2283)
VCSWkid(105703)
LatestVCSWkid(6360)
Storage Info:
- Storage Format: esriMapCacheStorageModeCompactV2
- Packet Size: 128
Initial Extent:
XMin: 1.1773490442075456E7
YMin: 6956292.712116268
XMax: 1.1777346150408788E7
YMax: 6959466.618366268
Spatial Reference: 102746
(2283)
VCSWkid(105703)
LatestVCSWkid(6360)
Full Extent:
XMin: 1.176043186145556E7
YMin: 6941733.1550717205
XMax: 1.1783012142082304E7
YMax: 6969166.117266059
Spatial Reference: 102746
(2283)
VCSWkid(105703)
LatestVCSWkid(6360)
Units: esriFeet
Supported Image Format Types: PNG32,PNG24,PNG,JPG,DIB,TIFF,EMF,PS,PDF,GIF,SVG,SVGZ,BMP
Document Info:
Title: Basemap_No_Parcels_No_Airspace
Author:
Comments:
Subject:
Category:
Keywords: basemap,manassas
AntialiasingMode: None
TextAntialiasingMode: Force
Supports Dynamic Layers: false
MaxRecordCount: 2000
MaxImageHeight: 4096
MaxImageWidth: 4096
Supported Query Formats: JSON, geoJSON, PBF
Supports Query Data Elements: true
Min Scale: 1072224.0175876403
Max Scale: 523.546883587715
Min LOD: 10
Max LOD: 21
Supports Datum Transformation: true
Child Resources:
Info
Supported Operations:
Export Map
QueryLegends
Return Updates